BEGIN:VCALENDAR
VERSION:2.0
PRODID:-//Plone.org//NONSGML plone.app.event//EN
X-WR-TIMEZONE:Europe/Berlin
BEGIN:VEVENT
SUMMARY:Welcome Reception for International Researchers 2025
DTSTART;TZID=Europe/Berlin:20251114T160000
DTSTAMP:20260425T155213Z
UID:8b354328e77a472ab7b474dbf2d43e9e@www.uni-marburg.de
CREATED:20251106T094946Z
DESCRIPTION:https://www.uni-marburg.de/en/international/news-international
 /events/2025/welcome-reception-for-international-researchers-2025\n
LAST-MODIFIED:20251106T094956Z
LOCATION:Old Town Hall\, Marburg
URL:https://www.uni-marburg.de/en/international/news-international/events/
 2025/welcome-reception-for-international-researchers-2025
END:VEVENT
BEGIN:VTIMEZONE
TZID:Europe/Berlin
X-LIC-LOCATION:Europe/Berlin
BEGIN:STANDARD
DTSTART:20251026T020000
TZNAME:CET
TZOFFSETFROM:+0200
TZOFFSETTO:+0100
END:STANDARD
END:VTIMEZONE
END:VCALENDAR
