BEGIN:VCALENDAR
VERSION:2.0
PRODID:-//Plone.org//NONSGML plone.app.event//EN
X-WR-TIMEZONE:Europe/Berlin
BEGIN:VEVENT
SUMMARY:Empowering Europe through EU University Alliances – Hessian Univ
 ersities driving Innovation and Cooperation
DTSTART;TZID=Europe/Berlin:20260114T120000
DTEND;TZID=Europe/Berlin:20260114T150000
DTSTAMP:20260425T210230Z
UID:4d0f8ac31a0b4a229a411a17586e4714@www.uni-marburg.de
ATTENDEE;CN="Lara Zieß, Student Vice President, Marburg University";ROLE=
 REQ-PARTICIPANT:Lara Zieß, Student Vice President, Marburg University
ATTENDEE;CN="Timon Gremmels, Hessian Minister for Science and Research, Ar
 ts and Culture ";ROLE=REQ-PARTICIPANT:Timon Gremmels, Hessian Minister for
  Science and Research, Arts and Culture 
ATTENDEE;CN="Vanessa Debiais-Sainton, Member of the Cabinet of the Executi
 ve Vice-President Roxana Mînzatu";ROLE=REQ-PARTICIPANT:Vanessa Debiais-Sa
 inton, Member of the Cabinet of the Executive Vice-President Roxana Mînza
 tu
ATTENDEE;CN="Laurence Farreng, Member of the European Parliament, Member o
 f the CULT Committee, ";ROLE=REQ-PARTICIPANT:Laurence Farreng, Member of t
 he European Parliament, Member of the CULT Committee, 
ATTENDEE;CN="Rapporteur of the Own-Initiative-Report on European Universit
 y Alliances";ROLE=REQ-PARTICIPANT:Rapporteur of the Own-Initiative-Report 
 on European University Alliances
ATTENDEE;CN="Manuela Ripa, Member of the European Parliament, Member of th
 e CULT Committee";ROLE=REQ-PARTICIPANT:Manuela Ripa, Member of the Europea
 n Parliament, Member of the CULT Committee
ATTENDEE;CN="Dr. Stephan Geifes, Director of the National Agency for EU Hi
 gher Education Cooperation at the DAAD";ROLE=REQ-PARTICIPANT:Dr. Stephan G
 eifes, Director of the National Agency for EU Higher Education Cooperation
  at the DAAD
ATTENDEE;CN="Prof. Dr. Arnd Steinmetz, President, Darmstadt University of 
 Applied Sciences";ROLE=REQ-PARTICIPANT:Prof. Dr. Arnd Steinmetz, President
 , Darmstadt University of Applied Sciences
CREATED:20251212T080838Z
DESCRIPTION:https://www.uni-marburg.de/en/international/news-international
 /events/2026/empowering-europe-through-eu-university-alliances-hessian-uni
 versities-driving-innovation-and-cooperation\nLunch Debate at at the Repre
 sentation of the State of Hessen to the European Union
LAST-MODIFIED:20251212T080909Z
LOCATION:Representation of the State of Hessen to the European Union\, 21\
 , Rue Montoyer\, 1000 Brussels
URL:https://www.uni-marburg.de/en/international/news-international/events/
 2026/empowering-europe-through-eu-university-alliances-hessian-universitie
 s-driving-innovation-and-cooperation
END:VEVENT
BEGIN:VTIMEZONE
TZID:Europe/Berlin
X-LIC-LOCATION:Europe/Berlin
BEGIN:STANDARD
DTSTART:20251026T020000
TZNAME:CET
TZOFFSETFROM:+0200
TZOFFSETTO:+0100
END:STANDARD
END:VTIMEZONE
END:VCALENDAR
