BEGIN:VCALENDAR
VERSION:2.0
PRODID:-//Plone.org//NONSGML plone.app.event//EN
X-WR-TIMEZONE:Europe/Berlin
BEGIN:VEVENT
SUMMARY:From Peer to Peer: General Inquiries
DTSTART;TZID=Europe/Berlin:20260128T110000
DTEND;TZID=Europe/Berlin:20260128T130000
DTSTAMP:20260424T192137Z
UID:1a9a815d78b04a1d8603c399fe2921b7@www.uni-marburg.de
RRULE:FREQ=WEEKLY;UNTIL=20270129T000000;BYDAY=WE
CATEGORIES:()
CREATED:20260122T124852Z
DESCRIPTION:https://www.uni-marburg.de/en/international/news-international
 /events/2026/from-peer-to-peer-general-inquiries\nOpen Counselling for Int
 ernational Students
LAST-MODIFIED:20260122T125357Z
LOCATION:Campus Firmanei F ǀ 05\, Bunsenstraße 3\, Zimmer/room +4.0110 (
 410/411)
URL:https://www.uni-marburg.de/en/international/news-international/events/
 2026/from-peer-to-peer-general-inquiries
END:VEVENT
BEGIN:VTIMEZONE
TZID:Europe/Berlin
X-LIC-LOCATION:Europe/Berlin
BEGIN:DAYLIGHT
DTSTART:20260329T030000
TZNAME:CEST
TZOFFSETFROM:+0100
TZOFFSETTO:+0200
END:DAYLIGHT
END:VTIMEZONE
END:VCALENDAR
