BEGIN:VCALENDAR
VERSION:2.0
PRODID:-//Plone.org//NONSGML plone.app.event//EN
X-WR-TIMEZONE:Europe/Berlin
BEGIN:VEVENT
SUMMARY:Late Arrival Evening Event
DTSTART;TZID=Europe/Berlin:20260424T200000
DTSTAMP:20260421T204419Z
UID:bf9ab8edf1344e3b974357058b27330c@www.uni-marburg.de
CATEGORIES:()
CREATED:20260416T152323Z
DESCRIPTION:https://www.uni-marburg.de/en/international/news-international
 /events/2026/late-arrival-evening-event\n
LAST-MODIFIED:20260416T152353Z
LOCATION:Marktplatz
URL:https://www.uni-marburg.de/en/international/news-international/events/
 2026/late-arrival-evening-event
END:VEVENT
BEGIN:VTIMEZONE
TZID:Europe/Berlin
X-LIC-LOCATION:Europe/Berlin
BEGIN:DAYLIGHT
DTSTART:20260329T030000
TZNAME:CEST
TZOFFSETFROM:+0100
TZOFFSETTO:+0200
END:DAYLIGHT
END:VTIMEZONE
END:VCALENDAR
