BEGIN:VCALENDAR
VERSION:2.0
PRODID:-//Plone.org//NONSGML plone.app.event//EN
X-WR-TIMEZONE:Europe/Berlin
BEGIN:VEVENT
SUMMARY:Late Arrival Office Hour
DTSTART;TZID=Europe/Berlin:20260427T170000
DTEND;TZID=Europe/Berlin:20260427T190000
DTSTAMP:20260423T212932Z
UID:bbe0b8c6005c46af8d11918eb900dc18@www.uni-marburg.de
CATEGORIES:()
CREATED:20260416T151957Z
DESCRIPTION:https://www.uni-marburg.de/en/international/news-international
 /events/2026/late-arrival-office-hour\n
LAST-MODIFIED:20260416T152043Z
LOCATION:https://webconf.hrz.uni-marburg.de/n/rooms/tme-pbk-9co-wrt/join
URL:https://www.uni-marburg.de/en/international/news-international/events/
 2026/late-arrival-office-hour
END:VEVENT
BEGIN:VTIMEZONE
TZID:Europe/Berlin
X-LIC-LOCATION:Europe/Berlin
BEGIN:DAYLIGHT
DTSTART:20260329T030000
TZNAME:CEST
TZOFFSETFROM:+0100
TZOFFSETTO:+0200
END:DAYLIGHT
END:VTIMEZONE
END:VCALENDAR
