BEGIN:VCALENDAR
VERSION:2.0
PRODID:-//Plone.org//NONSGML plone.app.event//EN
X-WR-TIMEZONE:Europe/Berlin
BEGIN:VEVENT
SUMMARY:Late Arrival Orientation
DTSTART;TZID=Europe/Berlin:20260424T150000
DTEND;TZID=Europe/Berlin:20260424T180000
DTSTAMP:20260421T130356Z
UID:8785ab0a57c54d8aa27ccd56b226f221@www.uni-marburg.de
CATEGORIES:()
CREATED:20260416T151452Z
DESCRIPTION:https://www.uni-marburg.de/en/international/news-international
 /events/2026/late-arrival-session\n
LAST-MODIFIED:20260417T145256Z
LOCATION:https://webconf.hrz.uni-marburg.de/n/rooms/tme-pbk-9co-wrt/join
URL:https://www.uni-marburg.de/en/international/news-international/events/
 2026/late-arrival-session
END:VEVENT
BEGIN:VTIMEZONE
TZID:Europe/Berlin
X-LIC-LOCATION:Europe/Berlin
BEGIN:DAYLIGHT
DTSTART:20260329T030000
TZNAME:CEST
TZOFFSETFROM:+0100
TZOFFSETTO:+0200
END:DAYLIGHT
END:VTIMEZONE
END:VCALENDAR
