BEGIN:VCALENDAR
VERSION:2.0
PRODID:-//Plone.org//NONSGML plone.app.event//EN
X-WR-TIMEZONE:Europe/Berlin
BEGIN:VEVENT
SUMMARY:Sprachcafé - International Researcher’s Language Lounge
DTSTART;TZID=Europe/Berlin:20260427T163000
DTEND;TZID=Europe/Berlin:20260427T180000
DTSTAMP:20260425T132311Z
UID:164a2cfeb7034f16aecaa4d73a874597@www.uni-marburg.de
RRULE:FREQ=DAILY;COUNT=7;INTERVAL=0
RDATE;TZID=Europe/Berlin:20260518T163000,20260615T163000,20260706T163000
CATEGORIES:()
CREATED:20260223T164955Z
DESCRIPTION:https://www.uni-marburg.de/en/international/news-international
 /events/2026/sprachcafe-international-researchers-language-lounge\nFor Int
 ernational Doctoral Candidates and Postdocs
LAST-MODIFIED:20260223T170523Z
LOCATION:Biegenstraße 12 (Sprachenzentrum)\, Raum 015
URL:https://www.uni-marburg.de/en/international/news-international/events/
 2026/sprachcafe-international-researchers-language-lounge
END:VEVENT
BEGIN:VTIMEZONE
TZID:Europe/Berlin
X-LIC-LOCATION:Europe/Berlin
BEGIN:DAYLIGHT
DTSTART:20260329T030000
TZNAME:CEST
TZOFFSETFROM:+0100
TZOFFSETTO:+0200
END:DAYLIGHT
END:VTIMEZONE
END:VCALENDAR
