BEGIN:VCALENDAR
VERSION:2.0
PRODID:-//Plone.org//NONSGML plone.app.event//EN
X-WR-TIMEZONE:Europe/Berlin
BEGIN:VEVENT
SUMMARY:Diskursforschung – abgesagt
DTSTART;TZID=Europe/Berlin:20151216T090000
DTEND;TZID=Europe/Berlin:20151217T170000
DTSTAMP:20260426T045624Z
UID:0e314e90ea914851b62afaa3d75435fa@www.uni-marburg.de
ATTENDEE;CN="Dr. Saša Bosančić";ROLE=REQ-PARTICIPANT:Dr. Saša Bosanči
 ć
CREATED:20181024T145832Z
DESCRIPTION:https://www.uni-marburg.de/en/mara/pr-mara/events/2015/program
 -humanities-and-social-sciences/diskursforschung-abgesagt\n
LAST-MODIFIED:20190404T084727Z
LOCATION:Philipps-Universität Marburg\, MARA\, F|05\, Deutschhausstraße 
 11+13\, 1. OG\, Seminarraum 01.0010
URL:https://www.uni-marburg.de/en/mara/pr-mara/events/2015/program-humanit
 ies-and-social-sciences/diskursforschung-abgesagt
END:VEVENT
BEGIN:VTIMEZONE
TZID:Europe/Berlin
X-LIC-LOCATION:Europe/Berlin
BEGIN:STANDARD
DTSTART:20151025T020000
TZNAME:CET
TZOFFSETFROM:+0200
TZOFFSETTO:+0100
END:STANDARD
END:VTIMEZONE
END:VCALENDAR
