BEGIN:VCALENDAR
VERSION:2.0
PRODID:-//Plone.org//NONSGML plone.app.event//EN
X-WR-TIMEZONE:Europe/Berlin
BEGIN:VEVENT
SUMMARY:Introduction to German Academic Culture for International Doctoral
  Candidates – cancelled
DTSTART;TZID=Europe/Berlin:20151123T090000
DTEND;TZID=Europe/Berlin:20151123T170000
DTSTAMP:20260425T184550Z
UID:a36f09531b6a455792d570e122955ccb@www.uni-marburg.de
ATTENDEE;CN="Dr. Nils Reschke";ROLE=REQ-PARTICIPANT:Dr. Nils Reschke
CREATED:20180925T121717Z
DESCRIPTION:https://www.uni-marburg.de/en/mara/pr-mara/events/2015/program
 -humanities-and-social-sciences/introduction-to-german-academic-culture-fo
 r-international-doctoral-candidates-2013-abgesagt\n
LAST-MODIFIED:20190312T115419Z
LOCATION:Philipps-Universität Marburg\, MARA\, F|05\, Deutschhausstraße 
 11+13\, 1st floor\, seminar room 01.0010
URL:https://www.uni-marburg.de/en/mara/pr-mara/events/2015/program-humanit
 ies-and-social-sciences/introduction-to-german-academic-culture-for-intern
 ational-doctoral-candidates-2013-abgesagt
END:VEVENT
BEGIN:VTIMEZONE
TZID:Europe/Berlin
X-LIC-LOCATION:Europe/Berlin
BEGIN:STANDARD
DTSTART:20151025T020000
TZNAME:CET
TZOFFSETFROM:+0200
TZOFFSETTO:+0100
END:STANDARD
END:VTIMEZONE
END:VCALENDAR
