BEGIN:VCALENDAR
VERSION:2.0
PRODID:-//Plone.org//NONSGML plone.app.event//EN
X-WR-TIMEZONE:Europe/Berlin
BEGIN:VEVENT
SUMMARY:Vorbereitung auf die Disputation
DTSTART;TZID=Europe/Berlin:20151203T100000
DTEND;TZID=Europe/Berlin:20151203T180000
DTSTAMP:20260426T051701Z
UID:ff4f33dc735a4123890b962c91e380ae@www.uni-marburg.de
ATTENDEE;CN="Dr. Claudia Eilles-Matthiessen";ROLE=REQ-PARTICIPANT:Dr. Clau
 dia Eilles-Matthiessen
CREATED:20181016T114908Z
DESCRIPTION:https://www.uni-marburg.de/en/mara/pr-mara/events/2015/program
 -humanities-and-social-sciences/vorbereitung-auf-die-disputation\n
LAST-MODIFIED:20190404T084806Z
LOCATION:Philipps-Universität Marburg\, MARA\, F|05\, Deutschhausstraße 
 11+13\, 1. OG\, Seminarraum 01.0020
URL:https://www.uni-marburg.de/en/mara/pr-mara/events/2015/program-humanit
 ies-and-social-sciences/vorbereitung-auf-die-disputation
END:VEVENT
BEGIN:VTIMEZONE
TZID:Europe/Berlin
X-LIC-LOCATION:Europe/Berlin
BEGIN:STANDARD
DTSTART:20151025T020000
TZNAME:CET
TZOFFSETFROM:+0200
TZOFFSETTO:+0100
END:STANDARD
END:VTIMEZONE
END:VCALENDAR
