BEGIN:VCALENDAR
VERSION:2.0
PRODID:-//Plone.org//NONSGML plone.app.event//EN
X-WR-TIMEZONE:Europe/Berlin
BEGIN:VEVENT
SUMMARY:Writing Lab – English Academic Writing for the Social Sciences a
 nd Humanities
DTSTART;TZID=Europe/Berlin:20151207T100000
DTEND;TZID=Europe/Berlin:20151208T173000
DTSTAMP:20260425T213459Z
UID:2c93d0f0d67549a898fc5af249a72161@www.uni-marburg.de
ATTENDEE;CN="Stephan Elkins, Dr. Kimberly Crow";ROLE=REQ-PARTICIPANT:Steph
 an Elkins, Dr. Kimberly Crow
CREATED:20181023T104441Z
DESCRIPTION:https://www.uni-marburg.de/en/mara/pr-mara/events/2015/program
 -humanities-and-social-sciences/writing-lab-2013-english-academic-writing-
 for-the-social-sciences-and-humanities\n
LAST-MODIFIED:20190312T115358Z
LOCATION:Philipps-Universität Marburg\, MARA\, F|05\, Deutschhausstraße 
 11+13\, 1st floor\, seminar room 01.0030
URL:https://www.uni-marburg.de/en/mara/pr-mara/events/2015/program-humanit
 ies-and-social-sciences/writing-lab-2013-english-academic-writing-for-the-
 social-sciences-and-humanities
END:VEVENT
BEGIN:VTIMEZONE
TZID:Europe/Berlin
X-LIC-LOCATION:Europe/Berlin
BEGIN:STANDARD
DTSTART:20151025T020000
TZNAME:CET
TZOFFSETFROM:+0200
TZOFFSETTO:+0100
END:STANDARD
END:VTIMEZONE
END:VCALENDAR
