BEGIN:VCALENDAR
VERSION:2.0
PRODID:-//Plone.org//NONSGML plone.app.event//EN
X-WR-TIMEZONE:Europe/Berlin
BEGIN:VEVENT
SUMMARY:R - Advanced Programming
DTSTART;TZID=Europe/Berlin:20151009T090000
DTEND;TZID=Europe/Berlin:20151009T170000
DTSTAMP:20260425T194029Z
UID:1061e485692f4118b1b469a681c7de14@www.uni-marburg.de
ATTENDEE;CN="Florian Detsch, Dr. Tim Appelhans";ROLE=REQ-PARTICIPANT:Flori
 an Detsch, Dr. Tim Appelhans
CREATED:20180719T143806Z
DESCRIPTION:https://www.uni-marburg.de/en/mara/pr-mara/events/2015/program
 -life-and-natural-sciences/r-advanced-programming\n
LAST-MODIFIED:20190312T115745Z
LOCATION:Philipps-Universität Marburg\, Center for Near and Middle Easter
 n Studies (CNMS)\, F|14\, Deutschhausstraße 12\, ground floor\, PC-Pool 0
 0A12
URL:https://www.uni-marburg.de/en/mara/pr-mara/events/2015/program-life-an
 d-natural-sciences/r-advanced-programming
END:VEVENT
BEGIN:VTIMEZONE
TZID:Europe/Berlin
X-LIC-LOCATION:Europe/Berlin
BEGIN:DAYLIGHT
DTSTART:20150329T030000
TZNAME:CEST
TZOFFSETFROM:+0100
TZOFFSETTO:+0200
END:DAYLIGHT
END:VTIMEZONE
END:VCALENDAR
