BEGIN:VCALENDAR
VERSION:2.0
PRODID:-//Plone.org//NONSGML plone.app.event//EN
X-WR-TIMEZONE:Europe/Berlin
BEGIN:VEVENT
SUMMARY:R – Creating Publication Quality Graphics using R
DTSTART;TZID=Europe/Berlin:20150703T090000
DTEND;TZID=Europe/Berlin:20150703T170000
DTSTAMP:20260425T130448Z
UID:2c406ec3d4f14bf7ae543da4b5562fcf@www.uni-marburg.de
ATTENDEE;CN="Dr. Tim Appelhans";ROLE=REQ-PARTICIPANT:Dr. Tim Appelhans
CREATED:20180710T094134Z
DESCRIPTION:https://www.uni-marburg.de/en/mara/pr-mara/events/2015/program
 -life-and-natural-sciences/r-creating-publication-quality-graphics-using-r
 \n
LAST-MODIFIED:20190404T090133Z
LOCATION:Philipps-Universität Marburg\, Centre for Middle Eastern Studies
  (CNMS)\, F|14\, Deutschhausstr. 12\, ground floor\, PC-Pool 00A12
URL:https://www.uni-marburg.de/en/mara/pr-mara/events/2015/program-life-an
 d-natural-sciences/r-creating-publication-quality-graphics-using-r
END:VEVENT
BEGIN:VTIMEZONE
TZID:Europe/Berlin
X-LIC-LOCATION:Europe/Berlin
BEGIN:DAYLIGHT
DTSTART:20150329T030000
TZNAME:CEST
TZOFFSETFROM:+0100
TZOFFSETTO:+0200
END:DAYLIGHT
END:VTIMEZONE
END:VCALENDAR
