BEGIN:VCALENDAR
VERSION:2.0
PRODID:-//Plone.org//NONSGML plone.app.event//EN
X-WR-TIMEZONE:Europe/Berlin
BEGIN:VEVENT
SUMMARY:"Getting Started" in Marburg for International Doctoral Candidates
DTSTART;TZID=Europe/Berlin:20151019T093000
DTEND;TZID=Europe/Berlin:20151023T053000
DTSTAMP:20260425T200327Z
UID:974d2f9389574c0d978e6662808156b5@www.uni-marburg.de
ATTENDEE;CN="Julia Michael";ROLE=REQ-PARTICIPANT:Julia Michael
ATTENDEE;CN="Dr. Christine Berger";ROLE=REQ-PARTICIPANT:Dr. Christine Berg
 er
ATTENDEE;CN="Dr. Felicitas Riedel ";ROLE=REQ-PARTICIPANT:Dr. Felicitas Rie
 del 
ATTENDEE;CN="Dr. Fabienne Quennet";ROLE=REQ-PARTICIPANT:Dr. Fabienne Quenn
 et
ATTENDEE;CN="Prof. Dr. Stefanie Dehnen";ROLE=REQ-PARTICIPANT:Prof. Dr. Ste
 fanie Dehnen
ATTENDEE;CN="Dr. Christine Issa";ROLE=REQ-PARTICIPANT:Dr. Christine Issa
ATTENDEE;CN="Prof. Dr. Julia Späth";ROLE=REQ-PARTICIPANT:Prof. Dr. Julia 
 Späth
ATTENDEE;CN="Miriam Remy";ROLE=REQ-PARTICIPANT:Miriam Remy
CREATED:20180814T124928Z
DESCRIPTION:https://www.uni-marburg.de/en/mara/pr-mara/events/2015/program
 -managing-division/getting-started-in-marburg-for-international-doctoral-c
 andidates\n
LAST-MODIFIED:20190122T114632Z
LOCATION:Philipps-Universität Marburg\, Seminar Room MW 6 A Marbacher Weg
  6\, Institutsgebäude A (Pharmacy) 01012B-(PHCH SR(A)\, 01A02)
URL:https://www.uni-marburg.de/en/mara/pr-mara/events/2015/program-managin
 g-division/getting-started-in-marburg-for-international-doctoral-candidate
 s
END:VEVENT
BEGIN:VTIMEZONE
TZID:Europe/Berlin
X-LIC-LOCATION:Europe/Berlin
BEGIN:DAYLIGHT
DTSTART:20150329T030000
TZNAME:CEST
TZOFFSETFROM:+0100
TZOFFSETTO:+0200
END:DAYLIGHT
END:VTIMEZONE
END:VCALENDAR
