BEGIN:VCALENDAR
VERSION:2.0
PRODID:-//Plone.org//NONSGML plone.app.event//EN
X-WR-TIMEZONE:Europe/Berlin
BEGIN:VEVENT
SUMMARY:EU Funding for Advanced Postdocs
DTSTART;TZID=Europe/Berlin:20150714T090000
DTEND;TZID=Europe/Berlin:20150714T130000
DTSTAMP:20260426T043828Z
UID:29ac8c41b20d4e269e4f2e2c24e6c244@www.uni-marburg.de
ATTENDEE;CN="Dr. Lois Woestmann";ROLE=REQ-PARTICIPANT:Dr. Lois Woestmann
CREATED:20180710T101118Z
DESCRIPTION:https://www.uni-marburg.de/en/mara/pr-mara/events/2015/program
 -postdoc/eu-funding-for-advanced-postdocs\n
LAST-MODIFIED:20180710T101831Z
LOCATION:Philipps-Universität Marburg\, MARA\, F|05\, Deutschhausstraße 
 11+13\, 1st floor\, seminar room 01.0010
URL:https://www.uni-marburg.de/en/mara/pr-mara/events/2015/program-postdoc
 /eu-funding-for-advanced-postdocs
END:VEVENT
BEGIN:VTIMEZONE
TZID:Europe/Berlin
X-LIC-LOCATION:Europe/Berlin
BEGIN:DAYLIGHT
DTSTART:20150329T030000
TZNAME:CEST
TZOFFSETFROM:+0100
TZOFFSETTO:+0200
END:DAYLIGHT
END:VTIMEZONE
END:VCALENDAR
