BEGIN:VCALENDAR
VERSION:2.0
PRODID:-//Plone.org//NONSGML plone.app.event//EN
X-WR-TIMEZONE:Europe/Berlin
BEGIN:VEVENT
SUMMARY:Geistiges Eigentum für Geistes- und Sozialwissenschaftler/-innen 
 – Alltäglich\, allgemein und begrifflich
DTSTART;TZID=Europe/Berlin:20150717T140000
DTEND;TZID=Europe/Berlin:20150717T180000
DTSTAMP:20260425T200344Z
UID:249d132189aa47909dabdf1e0e3de3c5@www.uni-marburg.de
ATTENDEE;CN="Niklas Günther";ROLE=REQ-PARTICIPANT:Niklas Günther
CREATED:20180717T144515Z
DESCRIPTION:https://www.uni-marburg.de/en/mara/pr-mara/events/2015/program
 -postdoc/geistiges-eigentum-fur-geistes-und-sozialwissenschaftler-innen\n
LAST-MODIFIED:20190404T085826Z
LOCATION:Philipps-Universität Marburg\, Centrum für Nah- und Mittelost-S
 tudien (CNMS)\, F|14\, Deutschhausstr. 12\, EG\, PC-Pool 00A19
URL:https://www.uni-marburg.de/en/mara/pr-mara/events/2015/program-postdoc
 /geistiges-eigentum-fur-geistes-und-sozialwissenschaftler-innen
END:VEVENT
BEGIN:VTIMEZONE
TZID:Europe/Berlin
X-LIC-LOCATION:Europe/Berlin
BEGIN:DAYLIGHT
DTSTART:20150329T030000
TZNAME:CEST
TZOFFSETFROM:+0100
TZOFFSETTO:+0200
END:DAYLIGHT
END:VTIMEZONE
END:VCALENDAR
