BEGIN:VCALENDAR
VERSION:2.0
PRODID:-//Plone.org//NONSGML plone.app.event//EN
X-WR-TIMEZONE:Europe/Berlin
BEGIN:VEVENT
SUMMARY:Grundlagen des Drittmittelrechts
DTSTART;TZID=Europe/Berlin:20151204T090000
DTEND;TZID=Europe/Berlin:20151204T130000
DTSTAMP:20260425T122856Z
UID:67336d9f923d47cca1ccb58efe6ccba6@www.uni-marburg.de
ATTENDEE;CN="Dr. Irina Grgic";ROLE=REQ-PARTICIPANT:Dr. Irina Grgic
CREATED:20181016T120235Z
DESCRIPTION:https://www.uni-marburg.de/en/mara/pr-mara/events/2015/program
 -postdoc/grundlagen-des-drittmittelrechts\n
LAST-MODIFIED:20181023T095644Z
LOCATION:Philipps-Universität Marburg\, MARA\, F|05\, Deutschhausstr. 11+
 13\, 1. OG\, Seminarraum 01.0010
URL:https://www.uni-marburg.de/en/mara/pr-mara/events/2015/program-postdoc
 /grundlagen-des-drittmittelrechts
END:VEVENT
BEGIN:VTIMEZONE
TZID:Europe/Berlin
X-LIC-LOCATION:Europe/Berlin
BEGIN:STANDARD
DTSTART:20151025T020000
TZNAME:CET
TZOFFSETFROM:+0200
TZOFFSETTO:+0100
END:STANDARD
END:VTIMEZONE
END:VCALENDAR
