BEGIN:VCALENDAR
VERSION:2.0
PRODID:-//Plone.org//NONSGML plone.app.event//EN
X-WR-TIMEZONE:Europe/Berlin
BEGIN:VEVENT
SUMMARY:Individuelle strategische Karriereplanung für Postdocs
DTSTART;TZID=Europe/Berlin:20151211T093000
DTEND;TZID=Europe/Berlin:20151212T181500
DTSTAMP:20260425T144500Z
UID:35fa8b4f677241cd83bb80dd237f5922@www.uni-marburg.de
ATTENDEE;CN="Prof. Dr. Annette Klussmann-Kolb";ROLE=REQ-PARTICIPANT:Prof. 
 Dr. Annette Klussmann-Kolb
CREATED:20181024T142737Z
DESCRIPTION:https://www.uni-marburg.de/en/mara/pr-mara/events/2015/program
 -postdoc/individuelle-strategische-karriereplanung-fuer-postdocs\n
LAST-MODIFIED:20190404T084739Z
LOCATION:Philipps-Universität Marburg\, MARA\, F|05\, Deutschhausstr. 11+
 13\, 1. OG\, Seminarraum 01.0020
URL:https://www.uni-marburg.de/en/mara/pr-mara/events/2015/program-postdoc
 /individuelle-strategische-karriereplanung-fuer-postdocs
END:VEVENT
BEGIN:VTIMEZONE
TZID:Europe/Berlin
X-LIC-LOCATION:Europe/Berlin
BEGIN:STANDARD
DTSTART:20151025T020000
TZNAME:CET
TZOFFSETFROM:+0200
TZOFFSETTO:+0100
END:STANDARD
END:VTIMEZONE
END:VCALENDAR
