BEGIN:VCALENDAR
VERSION:2.0
PRODID:-//Plone.org//NONSGML plone.app.event//EN
X-WR-TIMEZONE:Europe/Berlin
BEGIN:VEVENT
SUMMARY:Personalauswahl
DTSTART;TZID=Europe/Berlin:20151028T103000
DTEND;TZID=Europe/Berlin:20151028T180000
DTSTAMP:20260426T015101Z
UID:a425a9cf9ad14ee2826f2102b9df948f@www.uni-marburg.de
ATTENDEE;CN="Prof. Dr. Lothar Schmidt-Atzert";ROLE=REQ-PARTICIPANT:Prof. D
 r. Lothar Schmidt-Atzert
CREATED:20180719T153049Z
DESCRIPTION:https://www.uni-marburg.de/en/mara/pr-mara/events/2015/program
 -postdoc/personalauswahl\n
LAST-MODIFIED:20190404T085237Z
LOCATION:Philipps-Universität Marburg\, MARA\, F|05\, Deutschhausstraße 
 11+13\, 1. OG\, Seminarraum 01.0030
URL:https://www.uni-marburg.de/en/mara/pr-mara/events/2015/program-postdoc
 /personalauswahl
END:VEVENT
BEGIN:VTIMEZONE
TZID:Europe/Berlin
X-LIC-LOCATION:Europe/Berlin
BEGIN:STANDARD
DTSTART:20151025T020000
TZNAME:CET
TZOFFSETFROM:+0200
TZOFFSETTO:+0100
END:STANDARD
END:VTIMEZONE
END:VCALENDAR
