BEGIN:VCALENDAR
VERSION:2.0
PRODID:-//Plone.org//NONSGML plone.app.event//EN
X-WR-TIMEZONE:Europe/Berlin
BEGIN:VEVENT
SUMMARY:Sicher auftreten im Jobinterview
DTSTART;TZID=Europe/Berlin:20150930T090000
DTEND;TZID=Europe/Berlin:20150930T170000
DTSTAMP:20260426T062522Z
UID:4769fa7313b44f03921fbe11901abf86@www.uni-marburg.de
ATTENDEE;CN="Prof. Dr. Daniel Wrede";ROLE=REQ-PARTICIPANT:Prof. Dr. Daniel
  Wrede
CREATED:20180719T130523Z
DESCRIPTION:https://www.uni-marburg.de/en/mara/pr-mara/events/2015/program
 -postdoc/sicher-auftreten-im-jobinterview\n
LAST-MODIFIED:20190404T085334Z
LOCATION:Philipps-Universität Marburg\, MARA\, F|05\, Deutschhausstraße 
 11+13\, 1. OG\, Seminarraum 01.0010
URL:https://www.uni-marburg.de/en/mara/pr-mara/events/2015/program-postdoc
 /sicher-auftreten-im-jobinterview
END:VEVENT
BEGIN:VTIMEZONE
TZID:Europe/Berlin
X-LIC-LOCATION:Europe/Berlin
BEGIN:DAYLIGHT
DTSTART:20150329T030000
TZNAME:CEST
TZOFFSETFROM:+0100
TZOFFSETTO:+0200
END:DAYLIGHT
END:VTIMEZONE
END:VCALENDAR
