BEGIN:VCALENDAR
VERSION:2.0
PRODID:-//Plone.org//NONSGML plone.app.event//EN
X-WR-TIMEZONE:Europe/Berlin
BEGIN:VEVENT
SUMMARY:Souverän vortragen – Verbale und nonverbale Präsentationsstrat
 egien
DTSTART;TZID=Europe/Berlin:20171016T090000
DTEND;TZID=Europe/Berlin:20171016T170000
DTSTAMP:20260425T141633Z
UID:58723b850fdf4141a3cae489bfe0b5cb@www.uni-marburg.de
ATTENDEE;CN="Oliver Leibrecht, www.euton.de";ROLE=REQ-PARTICIPANT:Oliver L
 eibrecht, www.euton.de
CREATED:20190901T122537Z
DESCRIPTION:https://www.uni-marburg.de/en/mara/pr-mara/events/2017/program
 -humanities-and-social-sciences/copy_of_souveraen-vortragen-verbale-und-no
 nverbale-praesentationsstrategien\n
LAST-MODIFIED:20190901T122837Z
LOCATION:Philipps-Universität Marburg\, MARA\, F|05\, Deutschhausstraße 
 11+13\, 1. OG\, Seminarraum 01.0020
URL:https://www.uni-marburg.de/en/mara/pr-mara/events/2017/program-humanit
 ies-and-social-sciences/copy_of_souveraen-vortragen-verbale-und-nonverbale
 -praesentationsstrategien
END:VEVENT
BEGIN:VTIMEZONE
TZID:Europe/Berlin
X-LIC-LOCATION:Europe/Berlin
BEGIN:DAYLIGHT
DTSTART:20170326T030000
TZNAME:CEST
TZOFFSETFROM:+0100
TZOFFSETTO:+0200
END:DAYLIGHT
END:VTIMEZONE
END:VCALENDAR
