BEGIN:VCALENDAR
VERSION:2.0
PRODID:-//Plone.org//NONSGML plone.app.event//EN
X-WR-TIMEZONE:Europe/Berlin
BEGIN:VEVENT
SUMMARY:Feldforschung planen und umsetzen – Potenziale\, Herausforderung
 en und Risiken
DTSTART;TZID=Europe/Berlin:20171025T170000
DTEND;TZID=Europe/Berlin:20171025T200000
DTSTAMP:20260424T200951Z
UID:2e0b9dbf9dc84410810243e5d8e815de@www.uni-marburg.de
ATTENDEE;CN="Dr. Anne Menzel";ROLE=REQ-PARTICIPANT:Dr. Anne Menzel
CREATED:20190901T143547Z
DESCRIPTION:https://www.uni-marburg.de/en/mara/pr-mara/events/2017/program
 -humanities-and-social-sciences/feldforschung-planen-und-umsetzen-potenzia
 le-herausforderungen-und-risiken\n
LAST-MODIFIED:20190901T143642Z
LOCATION:Philipps-Universität Marburg\, MARA\, F|05\, Deutschhausstraße 
 11+13\, 1. OG\, Seminarraum 01.0030
URL:https://www.uni-marburg.de/en/mara/pr-mara/events/2017/program-humanit
 ies-and-social-sciences/feldforschung-planen-und-umsetzen-potenziale-herau
 sforderungen-und-risiken
END:VEVENT
BEGIN:VTIMEZONE
TZID:Europe/Berlin
X-LIC-LOCATION:Europe/Berlin
BEGIN:DAYLIGHT
DTSTART:20170326T030000
TZNAME:CEST
TZOFFSETFROM:+0100
TZOFFSETTO:+0200
END:DAYLIGHT
END:VTIMEZONE
END:VCALENDAR
