BEGIN:VCALENDAR
VERSION:2.0
PRODID:-//Plone.org//NONSGML plone.app.event//EN
X-WR-TIMEZONE:Europe/Berlin
BEGIN:VEVENT
SUMMARY:Finanzierung der Promotionsphase in den Geistes- und Sozialwissens
 chaften
DTSTART;TZID=Europe/Berlin:20170930T100000
DTEND;TZID=Europe/Berlin:20170930T140000
DTSTAMP:20260425T020046Z
UID:0d5f9b2cd5914a628561ca88e9ec47c5@www.uni-marburg.de
ATTENDEE;CN="Julia Michael";ROLE=REQ-PARTICIPANT:Julia Michael
CREATED:20190828T180118Z
DESCRIPTION:https://www.uni-marburg.de/en/mara/pr-mara/events/2017/program
 -humanities-and-social-sciences/finanzierung-der-promotionsphase-in-den-ge
 istes-und-sozialwissenschaften-1\n
LAST-MODIFIED:20190828T180253Z
LOCATION:Philipps-Universität Marburg\, MARA\, F|05\, Deutschhausstraße 
 11+13\, 1. OG\, Seminarraum 01.0010
URL:https://www.uni-marburg.de/en/mara/pr-mara/events/2017/program-humanit
 ies-and-social-sciences/finanzierung-der-promotionsphase-in-den-geistes-un
 d-sozialwissenschaften-1
END:VEVENT
BEGIN:VTIMEZONE
TZID:Europe/Berlin
X-LIC-LOCATION:Europe/Berlin
BEGIN:DAYLIGHT
DTSTART:20170326T030000
TZNAME:CEST
TZOFFSETFROM:+0100
TZOFFSETTO:+0200
END:DAYLIGHT
END:VTIMEZONE
END:VCALENDAR
