BEGIN:VCALENDAR
VERSION:2.0
PRODID:-//Plone.org//NONSGML plone.app.event//EN
X-WR-TIMEZONE:Europe/Berlin
BEGIN:VEVENT
SUMMARY:Finanzierung der Promotionsphase in den Geistes- und Sozialwissens
 chaften
DTSTART;TZID=Europe/Berlin:20170701T100000
DTEND;TZID=Europe/Berlin:20170701T140000
DTSTAMP:20260425T011537Z
UID:b3b45f6121504714b1a6fa52a0e3510b@www.uni-marburg.de
ATTENDEE;CN="Julia Michael";ROLE=REQ-PARTICIPANT:Julia Michael
CREATED:20190821T155724Z
DESCRIPTION:https://www.uni-marburg.de/en/mara/pr-mara/events/2017/program
 -humanities-and-social-sciences/finanzierung-der-promotionsphase-in-den-ge
 istes-und-sozialwissenschaften\n
LAST-MODIFIED:20190821T160012Z
LOCATION:Philipps-Universität Marburg\, MARA\, F|05\, Deutschhausstraße 
 11+13\, 1. OG\, Seminarraum 01.0010
URL:https://www.uni-marburg.de/en/mara/pr-mara/events/2017/program-humanit
 ies-and-social-sciences/finanzierung-der-promotionsphase-in-den-geistes-un
 d-sozialwissenschaften
END:VEVENT
BEGIN:VTIMEZONE
TZID:Europe/Berlin
X-LIC-LOCATION:Europe/Berlin
BEGIN:DAYLIGHT
DTSTART:20170326T030000
TZNAME:CEST
TZOFFSETFROM:+0100
TZOFFSETTO:+0200
END:DAYLIGHT
END:VTIMEZONE
END:VCALENDAR
