BEGIN:VCALENDAR
VERSION:2.0
PRODID:-//Plone.org//NONSGML plone.app.event//EN
X-WR-TIMEZONE:Europe/Berlin
BEGIN:VEVENT
SUMMARY:Forschungsdesign – Von der Fragestellung zur empirischen Umsetzu
 ng
DTSTART;TZID=Europe/Berlin:20171103T090000
DTEND;TZID=Europe/Berlin:20171104T130000
DTSTAMP:20260424T161259Z
UID:1ee4bb1aa5c949acb25ba3f68b479168@www.uni-marburg.de
ATTENDEE;CN="Dr. Anna Brake";ROLE=REQ-PARTICIPANT:Dr. Anna Brake
CREATED:20190902T160519Z
DESCRIPTION:https://www.uni-marburg.de/en/mara/pr-mara/events/2017/program
 -humanities-and-social-sciences/forschungsdesign-von-der-fragestellung-zur
 -empirischen-umsetzung\n
LAST-MODIFIED:20190902T161000Z
LOCATION:Philipps-Universität Marburg\, MARA\, F|05\, Deutschhausstraße 
 11+13\, 1. OG\, Seminarraum 01.0030
URL:https://www.uni-marburg.de/en/mara/pr-mara/events/2017/program-humanit
 ies-and-social-sciences/forschungsdesign-von-der-fragestellung-zur-empiris
 chen-umsetzung
END:VEVENT
BEGIN:VTIMEZONE
TZID:Europe/Berlin
X-LIC-LOCATION:Europe/Berlin
BEGIN:STANDARD
DTSTART:20171029T020000
TZNAME:CET
TZOFFSETFROM:+0200
TZOFFSETTO:+0100
END:STANDARD
END:VTIMEZONE
END:VCALENDAR
