BEGIN:VCALENDAR
VERSION:2.0
PRODID:-//Plone.org//NONSGML plone.app.event//EN
X-WR-TIMEZONE:Europe/Berlin
BEGIN:VEVENT
SUMMARY:Photoshop – Digitale Bildbearbeitung mit Adobe Photoshop
DTSTART;TZID=Europe/Berlin:20170911T093000
DTEND;TZID=Europe/Berlin:20170911T173000
DTSTAMP:20260421T230211Z
UID:c200917f3cb342039a43d9868939bc6b@www.uni-marburg.de
ATTENDEE;CN="Helge Neubauer";ROLE=REQ-PARTICIPANT:Helge Neubauer
CREATED:20190825T202007Z
DESCRIPTION:https://www.uni-marburg.de/en/mara/pr-mara/events/2017/program
 -humanities-and-social-sciences/photoshop-digitale-bildbearbeitung-mit-ado
 be-photoshop\n
LAST-MODIFIED:20190825T202356Z
LOCATION:Centrum für Nah- und Mittelost-Studien (CNMS)\, F|14\, Deutschha
 usstraße 12\, PC-Pool 00A19
URL:https://www.uni-marburg.de/en/mara/pr-mara/events/2017/program-humanit
 ies-and-social-sciences/photoshop-digitale-bildbearbeitung-mit-adobe-photo
 shop
END:VEVENT
BEGIN:VTIMEZONE
TZID:Europe/Berlin
X-LIC-LOCATION:Europe/Berlin
BEGIN:DAYLIGHT
DTSTART:20170326T030000
TZNAME:CEST
TZOFFSETFROM:+0100
TZOFFSETTO:+0200
END:DAYLIGHT
END:VTIMEZONE
END:VCALENDAR
