BEGIN:VCALENDAR
VERSION:2.0
PRODID:-//Plone.org//NONSGML plone.app.event//EN
X-WR-TIMEZONE:Europe/Berlin
BEGIN:VEVENT
SUMMARY:Präsentationstraining für Nichtmuttersprachler/-innen
DTSTART;TZID=Europe/Berlin:20170513T100000
DTEND;TZID=Europe/Berlin:20170520T170000
DTSTAMP:20260423T190450Z
UID:e0e297e416c443d1877788f4b66bcc75@www.uni-marburg.de
ATTENDEE;CN="Dr. Susanne Duxa";ROLE=REQ-PARTICIPANT:Dr. Susanne Duxa
CREATED:20190807T151550Z
DESCRIPTION:https://www.uni-marburg.de/en/mara/pr-mara/events/2017/program
 -humanities-and-social-sciences/praesentationstraining-fuer-nichtmutterspr
 achler-innen\n
LAST-MODIFIED:20190807T152351Z
LOCATION:Philipps-Universität Marburg\, MARA\, F|05\, Deutschhausstraße 
 11+13\, 1. OG\, Seminarraum 01.0010
URL:https://www.uni-marburg.de/en/mara/pr-mara/events/2017/program-humanit
 ies-and-social-sciences/praesentationstraining-fuer-nichtmuttersprachler-i
 nnen
END:VEVENT
BEGIN:VTIMEZONE
TZID:Europe/Berlin
X-LIC-LOCATION:Europe/Berlin
BEGIN:DAYLIGHT
DTSTART:20170326T030000
TZNAME:CEST
TZOFFSETFROM:+0100
TZOFFSETTO:+0200
END:DAYLIGHT
END:VTIMEZONE
END:VCALENDAR
