BEGIN:VCALENDAR
VERSION:2.0
PRODID:-//Plone.org//NONSGML plone.app.event//EN
X-WR-TIMEZONE:Europe/Berlin
BEGIN:VEVENT
SUMMARY:Qualitative Auswertungssoftware – So nutzen Sie f4analyse und MA
 XQDA
DTSTART;TZID=Europe/Berlin:20170706T100000
DTEND;TZID=Europe/Berlin:20170707T163000
DTSTAMP:20260421T044854Z
UID:dba2cb2216b34396a0ad48d3d8916e6c@www.uni-marburg.de
ATTENDEE;CN="Dr. Thorsten Dresing";ROLE=REQ-PARTICIPANT:Dr. Thorsten Dresi
 ng
CREATED:20190821T170349Z
DESCRIPTION:https://www.uni-marburg.de/en/mara/pr-mara/events/2017/program
 -humanities-and-social-sciences/qualitative-auswertungssoftware-so-nutzen-
 sie-f4analyse-und-maxqda\n
LAST-MODIFIED:20190821T170744Z
LOCATION:Philipps-Universität Marburg\, MARA\, F|05\, Deutschhausstraße 
 11+13\, 1. OG\, Seminarraum 01.0010
URL:https://www.uni-marburg.de/en/mara/pr-mara/events/2017/program-humanit
 ies-and-social-sciences/qualitative-auswertungssoftware-so-nutzen-sie-f4an
 alyse-und-maxqda
END:VEVENT
BEGIN:VTIMEZONE
TZID:Europe/Berlin
X-LIC-LOCATION:Europe/Berlin
BEGIN:DAYLIGHT
DTSTART:20170326T030000
TZNAME:CEST
TZOFFSETFROM:+0100
TZOFFSETTO:+0200
END:DAYLIGHT
END:VTIMEZONE
END:VCALENDAR
