BEGIN:VCALENDAR
VERSION:2.0
PRODID:-//Plone.org//NONSGML plone.app.event//EN
X-WR-TIMEZONE:Europe/Berlin
BEGIN:VEVENT
SUMMARY:Souverän klären – Kommunizieren in kritischen Gesprächssituat
 ionen
DTSTART;TZID=Europe/Berlin:20170130T090000
DTEND;TZID=Europe/Berlin:20170130T170000
DTSTAMP:20260425T042107Z
UID:05219306c0574e52a9577edb2ce5cd60@www.uni-marburg.de
ATTENDEE;CN="Oliver Leibrecht, www.euton.de";ROLE=REQ-PARTICIPANT:Oliver L
 eibrecht, www.euton.de
CREATED:20190417T111608Z
DESCRIPTION:https://www.uni-marburg.de/en/mara/pr-mara/events/2017/program
 -humanities-and-social-sciences/souveraen-klaeren-kommunizieren-in-kritisc
 hen-gespraechssituationen\n
LAST-MODIFIED:20190613T101325Z
LOCATION:Philipps-Universität Marburg\, MARA\, F|05\, Deutschhausstraße 
 11+13\, 1. OG\, Seminarraum 01.0010
URL:https://www.uni-marburg.de/en/mara/pr-mara/events/2017/program-humanit
 ies-and-social-sciences/souveraen-klaeren-kommunizieren-in-kritischen-gesp
 raechssituationen
END:VEVENT
BEGIN:VTIMEZONE
TZID:Europe/Berlin
X-LIC-LOCATION:Europe/Berlin
BEGIN:STANDARD
DTSTART:20161030T020000
TZNAME:CET
TZOFFSETFROM:+0200
TZOFFSETTO:+0100
END:STANDARD
END:VTIMEZONE
END:VCALENDAR
