BEGIN:VCALENDAR
VERSION:2.0
PRODID:-//Plone.org//NONSGML plone.app.event//EN
X-WR-TIMEZONE:Europe/Berlin
BEGIN:VEVENT
SUMMARY:Writing Lab – Getting Published Abroad in the Humanities and Soc
 ial Sciences
DTSTART;TZID=Europe/Berlin:20170608T140000
DTEND;TZID=Europe/Berlin:20170608T180000
DTSTAMP:20260421T152832Z
UID:3a8c495ae76a45c3a4307772f3fb8667@www.uni-marburg.de
ATTENDEE;CN="Stephan Elkins, www.english-academic-writing.de";ROLE=REQ-PAR
 TICIPANT:Stephan Elkins, www.english-academic-writing.de
CREATED:20190819T092116Z
DESCRIPTION:https://www.uni-marburg.de/en/mara/pr-mara/events/2017/program
 -humanities-and-social-sciences/writing-lab-getting-published-abroad-in-th
 e-humanities-and-social-sciences\n
LAST-MODIFIED:20191031T164108Z
LOCATION:Philipps-Universität Marburg\, MARA\, F|05\, Deutschhausstraße 
 11+13\, 1st floor\, seminar room 01.0010
URL:https://www.uni-marburg.de/en/mara/pr-mara/events/2017/program-humanit
 ies-and-social-sciences/writing-lab-getting-published-abroad-in-the-humani
 ties-and-social-sciences
END:VEVENT
BEGIN:VTIMEZONE
TZID:Europe/Berlin
X-LIC-LOCATION:Europe/Berlin
BEGIN:DAYLIGHT
DTSTART:20170326T030000
TZNAME:CEST
TZOFFSETFROM:+0100
TZOFFSETTO:+0200
END:DAYLIGHT
END:VTIMEZONE
END:VCALENDAR
