BEGIN:VCALENDAR
VERSION:2.0
PRODID:-//Plone.org//NONSGML plone.app.event//EN
X-WR-TIMEZONE:Europe/Berlin
BEGIN:VEVENT
SUMMARY:Writing Lab – Producing an Academic Paper in the Social Sciences
  and Humanities
DTSTART;TZID=Europe/Berlin:20170511T100000
DTEND;TZID=Europe/Berlin:20170512T173000
DTSTAMP:20260421T233142Z
UID:543a90d0f671473b91467e63d66b4b5f@www.uni-marburg.de
ATTENDEE;CN="Dr. Kimberly Crow, Stephan Elkins, www.english-academic-writi
 ng.de";ROLE=REQ-PARTICIPANT:Dr. Kimberly Crow, Stephan Elkins, www.english
 -academic-writing.de
CREATED:20190807T143837Z
DESCRIPTION:https://www.uni-marburg.de/en/mara/pr-mara/events/2017/program
 -humanities-and-social-sciences/writing-lab-producing-an-academic-paper-in
 -the-social-sciences-and-humanities\n
LAST-MODIFIED:20191031T164008Z
LOCATION:Philipps-Universität Marburg\, MARA\, F|05\, Deutschhausstraße 
 11+13\, 1st floor\, seminar room 01.0030
URL:https://www.uni-marburg.de/en/mara/pr-mara/events/2017/program-humanit
 ies-and-social-sciences/writing-lab-producing-an-academic-paper-in-the-soc
 ial-sciences-and-humanities
END:VEVENT
BEGIN:VTIMEZONE
TZID:Europe/Berlin
X-LIC-LOCATION:Europe/Berlin
BEGIN:DAYLIGHT
DTSTART:20170326T030000
TZNAME:CEST
TZOFFSETFROM:+0100
TZOFFSETTO:+0200
END:DAYLIGHT
END:VTIMEZONE
END:VCALENDAR
