BEGIN:VCALENDAR
VERSION:2.0
PRODID:-//Plone.org//NONSGML plone.app.event//EN
X-WR-TIMEZONE:Europe/Berlin
BEGIN:VEVENT
SUMMARY:Advanced Programming in R
DTSTART;TZID=Europe/Berlin:20161106T090000
DTEND;TZID=Europe/Berlin:20161106T170000
DTSTAMP:20260425T012115Z
UID:4079636933af4567ac6ea1e89a602ff2@www.uni-marburg.de
ATTENDEE;CN="Dr. Florian Detsch";ROLE=REQ-PARTICIPANT:Dr. Florian Detsch
CREATED:20191010T141223Z
DESCRIPTION:https://www.uni-marburg.de/en/mara/pr-mara/events/2017/program
 -life-and-natural-sciences/advanced-programming-in-r\n
LAST-MODIFIED:20191031T162700Z
LOCATION:Philipps-Universität Marburg\, MARA\, F|05\, Deutschhausstraße 
 11+13\, 1st floor\, seminar room 01.0030
URL:https://www.uni-marburg.de/en/mara/pr-mara/events/2017/program-life-an
 d-natural-sciences/advanced-programming-in-r
END:VEVENT
BEGIN:VTIMEZONE
TZID:Europe/Berlin
X-LIC-LOCATION:Europe/Berlin
BEGIN:STANDARD
DTSTART:20161030T020000
TZNAME:CET
TZOFFSETFROM:+0200
TZOFFSETTO:+0100
END:STANDARD
END:VTIMEZONE
END:VCALENDAR
