BEGIN:VCALENDAR
VERSION:2.0
PRODID:-//Plone.org//NONSGML plone.app.event//EN
X-WR-TIMEZONE:Europe/Berlin
BEGIN:VEVENT
SUMMARY:Creating Publication Quality Graphics Using R
DTSTART;TZID=Europe/Berlin:20171005T090000
DTEND;TZID=Europe/Berlin:20171005T170000
DTSTAMP:20260425T012105Z
UID:42fd7e2d43404137a29bb7b7a2817825@www.uni-marburg.de
ATTENDEE;CN="Dr. Florian Detsch";ROLE=REQ-PARTICIPANT:Dr. Florian Detsch
CREATED:20190828T181308Z
DESCRIPTION:https://www.uni-marburg.de/en/mara/pr-mara/events/2017/program
 -life-and-natural-sciences/creating-publication-quality-graphics-using-r\n
LAST-MODIFIED:20191031T162257Z
LOCATION:Philipps-Universität Marburg\, MARA\, F|05\, Deutschhausstraße 
 11+13\, 1st floor\, seminar room 01.0030
URL:https://www.uni-marburg.de/en/mara/pr-mara/events/2017/program-life-an
 d-natural-sciences/creating-publication-quality-graphics-using-r
END:VEVENT
BEGIN:VTIMEZONE
TZID:Europe/Berlin
X-LIC-LOCATION:Europe/Berlin
BEGIN:DAYLIGHT
DTSTART:20170326T030000
TZNAME:CEST
TZOFFSETFROM:+0100
TZOFFSETTO:+0200
END:DAYLIGHT
END:VTIMEZONE
END:VCALENDAR
