BEGIN:VCALENDAR
VERSION:2.0
PRODID:-//Plone.org//NONSGML plone.app.event//EN
X-WR-TIMEZONE:Europe/Berlin
BEGIN:VEVENT
SUMMARY:Good Scientific Practice – The Responsible Conduct of Research
DTSTART;TZID=Europe/Berlin:20170629T091500
DTEND;TZID=Europe/Berlin:20170630T131500
DTSTAMP:20260425T050529Z
UID:0f69a33832644eee9e692b1df962dd7d@www.uni-marburg.de
ATTENDEE;CN="Dr. Michael Gommel, www.michaelgommel.de";ROLE=REQ-PARTICIPAN
 T:Dr. Michael Gommel, www.michaelgommel.de
CREATED:20190821T125556Z
DESCRIPTION:https://www.uni-marburg.de/en/mara/pr-mara/events/2017/program
 -life-and-natural-sciences/good-scientific-practice-the-responsible-conduc
 t-of-research\n
LAST-MODIFIED:20191114T131249Z
LOCATION:Philipps-Universität Marburg\, MARA\, F|05\, Deutschhausstraße 
 11+13\, 1st floor\, seminar room 01.0010
URL:https://www.uni-marburg.de/en/mara/pr-mara/events/2017/program-life-an
 d-natural-sciences/good-scientific-practice-the-responsible-conduct-of-res
 earch
END:VEVENT
BEGIN:VTIMEZONE
TZID:Europe/Berlin
X-LIC-LOCATION:Europe/Berlin
BEGIN:DAYLIGHT
DTSTART:20170326T030000
TZNAME:CEST
TZOFFSETFROM:+0100
TZOFFSETTO:+0200
END:DAYLIGHT
END:VTIMEZONE
END:VCALENDAR
