BEGIN:VCALENDAR
VERSION:2.0
PRODID:-//Plone.org//NONSGML plone.app.event//EN
X-WR-TIMEZONE:Europe/Berlin
BEGIN:VEVENT
SUMMARY:Netzwerken in der Wissenschaft
DTSTART;TZID=Europe/Berlin:20171214T090000
DTEND;TZID=Europe/Berlin:20171215T130000
DTSTAMP:20260425T043858Z
UID:d6e709084e0e4311b9d17cb84e67cca2@www.uni-marburg.de
ATTENDEE;CN="Nicole Tamka, www.methoden-didaktik.com";ROLE=REQ-PARTICIPANT
 :Nicole Tamka, www.methoden-didaktik.com
CREATED:20190902T162054Z
DESCRIPTION:https://www.uni-marburg.de/en/mara/pr-mara/events/2017/program
 -life-and-natural-sciences/netzwerken-in-der-wissenschaft\n
LAST-MODIFIED:20190902T162313Z
LOCATION:Philipps-Universität Marburg\, MARA\, F|05\, Deutschhausstraße 
 11+13\, 1. OG\, Seminarraum 01.0030
URL:https://www.uni-marburg.de/en/mara/pr-mara/events/2017/program-life-an
 d-natural-sciences/netzwerken-in-der-wissenschaft
END:VEVENT
BEGIN:VTIMEZONE
TZID:Europe/Berlin
X-LIC-LOCATION:Europe/Berlin
BEGIN:STANDARD
DTSTART:20171029T020000
TZNAME:CET
TZOFFSETFROM:+0200
TZOFFSETTO:+0100
END:STANDARD
END:VTIMEZONE
END:VCALENDAR
