BEGIN:VCALENDAR
VERSION:2.0
PRODID:-//Plone.org//NONSGML plone.app.event//EN
X-WR-TIMEZONE:Europe/Berlin
BEGIN:VEVENT
SUMMARY:Schreibwerkstatt – Deutsche Wissenschaftssprache und ihre Charak
 teristika für internationale Promovierende
DTSTART;TZID=Europe/Berlin:20171118T093000
DTEND;TZID=Europe/Berlin:20171118T153000
DTSTAMP:20260426T062953Z
UID:fa1857fda8f04c039f8a606eeabe7ae1@www.uni-marburg.de
ATTENDEE;CN="Dr. Susanne Duxa";ROLE=REQ-PARTICIPANT:Dr. Susanne Duxa
CREATED:20191021T074927Z
DESCRIPTION:https://www.uni-marburg.de/en/mara/pr-mara/events/2017/program
 -life-and-natural-sciences/schreibwerkstatt-deutsche-wissenschaftssprache-
 und-ihre-charakteristika-fuer-internationale-promovierende\n
LAST-MODIFIED:20191021T075201Z
LOCATION:Philipps-Universität Marburg\, Sprachenzentrum\, B|03\, Biegenst
 raße 12\, Seminarraum 014
URL:https://www.uni-marburg.de/en/mara/pr-mara/events/2017/program-life-an
 d-natural-sciences/schreibwerkstatt-deutsche-wissenschaftssprache-und-ihre
 -charakteristika-fuer-internationale-promovierende
END:VEVENT
BEGIN:VTIMEZONE
TZID:Europe/Berlin
X-LIC-LOCATION:Europe/Berlin
BEGIN:STANDARD
DTSTART:20171029T020000
TZNAME:CET
TZOFFSETFROM:+0200
TZOFFSETTO:+0100
END:STANDARD
END:VTIMEZONE
END:VCALENDAR
