BEGIN:VCALENDAR
VERSION:2.0
PRODID:-//Plone.org//NONSGML plone.app.event//EN
X-WR-TIMEZONE:Europe/Berlin
BEGIN:VEVENT
SUMMARY:Schreibwerkstatt – Wie nutze ich kreative Phasen\, wie gehe ich 
 mit Schreibblockaden um?
DTSTART;TZID=Europe/Berlin:20170914T140000
DTEND;TZID=Europe/Berlin:20170914T180000
DTSTAMP:20260425T142938Z
UID:98b9371c25ac487188331cae404d13e3@www.uni-marburg.de
ATTENDEE;CN="Prof. Dr. Annette Klussmann-Kolb, www.coachademics.de";ROLE=R
 EQ-PARTICIPANT:Prof. Dr. Annette Klussmann-Kolb, www.coachademics.de
CREATED:20190827T092827Z
DESCRIPTION:https://www.uni-marburg.de/en/mara/pr-mara/events/2017/program
 -life-and-natural-sciences/schreibwerkstatt-wie-nutze-ich-kreative-phasen-
 wie-gehe-ich-mit-schreibblockaden-um\n
LAST-MODIFIED:20190827T093451Z
LOCATION:Philipps-Universität Marburg\, MARA\, F|05\, Deutschhausstraße 
 11+13\, 1. OG\, Seminarraum 01.0030
URL:https://www.uni-marburg.de/en/mara/pr-mara/events/2017/program-life-an
 d-natural-sciences/schreibwerkstatt-wie-nutze-ich-kreative-phasen-wie-gehe
 -ich-mit-schreibblockaden-um
END:VEVENT
BEGIN:VTIMEZONE
TZID:Europe/Berlin
X-LIC-LOCATION:Europe/Berlin
BEGIN:DAYLIGHT
DTSTART:20170326T030000
TZNAME:CEST
TZOFFSETFROM:+0100
TZOFFSETTO:+0200
END:DAYLIGHT
END:VTIMEZONE
END:VCALENDAR
