BEGIN:VCALENDAR
VERSION:2.0
PRODID:-//Plone.org//NONSGML plone.app.event//EN
X-WR-TIMEZONE:Europe/Berlin
BEGIN:VEVENT
SUMMARY:Teamwork optimal – Erfolgreiche Zusammenarbeit in interdisziplin
 ären Teams
DTSTART;TZID=Europe/Berlin:20170320T090000
DTEND;TZID=Europe/Berlin:20170321T170000
DTSTAMP:20260425T050541Z
UID:eb09159b6edb49118f0dec12968e48ee@www.uni-marburg.de
ATTENDEE;CN="Barbara Wagner, www.coach-train.biz";ROLE=REQ-PARTICIPANT:Bar
 bara Wagner, www.coach-train.biz
CREATED:20190613T134001Z
DESCRIPTION:https://www.uni-marburg.de/en/mara/pr-mara/events/2017/program
 -life-and-natural-sciences/teamwork-optimal-erfolgreiche-zusammenarbeit-in
 -interdisziplinaeren-teams\n
LAST-MODIFIED:20190613T134310Z
LOCATION:Philipps-Universität Marburg\, MARA\, F|05\, Deutschhausstraße 
 11+13\, 1. OG\, Seminarraum 01.0010
URL:https://www.uni-marburg.de/en/mara/pr-mara/events/2017/program-life-an
 d-natural-sciences/teamwork-optimal-erfolgreiche-zusammenarbeit-in-interdi
 sziplinaeren-teams
END:VEVENT
BEGIN:VTIMEZONE
TZID:Europe/Berlin
X-LIC-LOCATION:Europe/Berlin
BEGIN:STANDARD
DTSTART:20161030T020000
TZNAME:CET
TZOFFSETFROM:+0200
TZOFFSETTO:+0100
END:STANDARD
END:VTIMEZONE
END:VCALENDAR
