BEGIN:VCALENDAR
VERSION:2.0
PRODID:-//Plone.org//NONSGML plone.app.event//EN
X-WR-TIMEZONE:Europe/Berlin
BEGIN:VEVENT
SUMMARY:Writing Lab – Writing Scholarly Reviews and Basic Orthography
DTSTART;TZID=Europe/Berlin:20171021T083000
DTEND;TZID=Europe/Berlin:20171021T123000
DTSTAMP:20260425T032146Z
UID:f5ab53a3ea364eb3965158b2536f0a97@www.uni-marburg.de
ATTENDEE;CN="Laurence F. Henry";ROLE=REQ-PARTICIPANT:Laurence F. Henry
CREATED:20190901T142609Z
DESCRIPTION:https://www.uni-marburg.de/en/mara/pr-mara/events/2017/program
 -life-and-natural-sciences/writing-lab-writing-scholarly-reviews-and-basic
 -orthography\n
LAST-MODIFIED:20191031T162634Z
LOCATION:Philipps-Universität Marburg\, MARA\, F|05\, Deutschhausstraße 
 11+13\, 1st floor\, seminar room 01.0030
URL:https://www.uni-marburg.de/en/mara/pr-mara/events/2017/program-life-an
 d-natural-sciences/writing-lab-writing-scholarly-reviews-and-basic-orthogr
 aphy
END:VEVENT
BEGIN:VTIMEZONE
TZID:Europe/Berlin
X-LIC-LOCATION:Europe/Berlin
BEGIN:DAYLIGHT
DTSTART:20170326T030000
TZNAME:CEST
TZOFFSETFROM:+0100
TZOFFSETTO:+0200
END:DAYLIGHT
END:VTIMEZONE
END:VCALENDAR
