BEGIN:VCALENDAR
VERSION:2.0
PRODID:-//Plone.org//NONSGML plone.app.event//EN
X-WR-TIMEZONE:Europe/Berlin
BEGIN:VEVENT
SUMMARY:Writing Lab – Writing Scientific Publications in the Life and Na
 tural Sciences
DTSTART;TZID=Europe/Berlin:20191213T090000
DTEND;TZID=Europe/Berlin:20191213T160000
DTSTAMP:20260425T003343Z
UID:f9da388f833844e587dfcf4f50974320@www.uni-marburg.de
ATTENDEE;CN="Dr. Melanie Lynn Conrad";ROLE=REQ-PARTICIPANT:Dr. Melanie Lyn
 n Conrad
CREATED:20191030T171052Z
DESCRIPTION:https://www.uni-marburg.de/en/mara/pr-mara/events/2017/program
 -life-and-natural-sciences/writing-lab-writing-scientific-publications-in-
 the-life-and-natural-sciences\n
LAST-MODIFIED:20191030T171224Z
LOCATION:Philipps-Universität Marburg\, MARA\, F|05\, Deutschhausstraße 
 11+13\, 1st floor\, seminar room 01.0010
URL:https://www.uni-marburg.de/en/mara/pr-mara/events/2017/program-life-an
 d-natural-sciences/writing-lab-writing-scientific-publications-in-the-life
 -and-natural-sciences
END:VEVENT
BEGIN:VTIMEZONE
TZID:Europe/Berlin
X-LIC-LOCATION:Europe/Berlin
BEGIN:STANDARD
DTSTART:20191027T020000
TZNAME:CET
TZOFFSETFROM:+0200
TZOFFSETTO:+0100
END:STANDARD
END:VTIMEZONE
END:VCALENDAR
