BEGIN:VCALENDAR
VERSION:2.0
PRODID:-//Plone.org//NONSGML plone.app.event//EN
X-WR-TIMEZONE:Europe/Berlin
BEGIN:VEVENT
SUMMARY:Academic English for Second Language Researchers
DTSTART;TZID=Europe/Berlin:20171113T150000
DTEND;TZID=Europe/Berlin:20171113T163000
DTSTAMP:20260425T133038Z
UID:2956e5e65abd443bba560ec911b0d786@www.uni-marburg.de
ATTENDEE;CN="Laurence F. Henry";ROLE=REQ-PARTICIPANT:Laurence F. Henry
CREATED:20180313T091910Z
DESCRIPTION:https://www.uni-marburg.de/en/mara/pr-mara/events/2017/program
 -managing-division/mara-day/academic-english-for-second-language-researche
 rs\n
LAST-MODIFIED:20191021T130538Z
LOCATION:Philipps-Universität Marburg\, MARA\, F|05\, Deutschhausstraße 
 11+13\, 1st floor\, seminar room 01.0010
URL:https://www.uni-marburg.de/en/mara/pr-mara/events/2017/program-managin
 g-division/mara-day/academic-english-for-second-language-researchers
END:VEVENT
BEGIN:VTIMEZONE
TZID:Europe/Berlin
X-LIC-LOCATION:Europe/Berlin
BEGIN:STANDARD
DTSTART:20171029T020000
TZNAME:CET
TZOFFSETFROM:+0200
TZOFFSETTO:+0100
END:STANDARD
END:VTIMEZONE
END:VCALENDAR
