BEGIN:VCALENDAR
VERSION:2.0
PRODID:-//Plone.org//NONSGML plone.app.event//EN
X-WR-TIMEZONE:Europe/Berlin
BEGIN:VEVENT
SUMMARY:Hermeneutische Textauslegung – Methodologische Grundlagen und fo
 rschungspraktische Übungen
DTSTART;TZID=Europe/Berlin:20180908T090000
DTEND;TZID=Europe/Berlin:20180908T170000
DTSTAMP:20260420T041929Z
UID:1c9f9bea9db5408fa3f1321d0696bf20@www.uni-marburg.de
ATTENDEE;CN="Dr. Thomas Wenzl";ROLE=REQ-PARTICIPANT:Dr. Thomas Wenzl
CREATED:20180518T083133Z
DESCRIPTION:https://www.uni-marburg.de/en/mara/pr-mara/events/2018/program
 -humanities-and-social-sciences/hermeneutische-textauslegung\n
LAST-MODIFIED:20180523T093018Z
LOCATION:Philipps-Universität Marburg\, MARA\, F|05\, Deutschhausstraße 
 11+13\, Seminarraum 01.0030
URL:https://www.uni-marburg.de/en/mara/pr-mara/events/2018/program-humanit
 ies-and-social-sciences/hermeneutische-textauslegung
END:VEVENT
BEGIN:VTIMEZONE
TZID:Europe/Berlin
X-LIC-LOCATION:Europe/Berlin
BEGIN:DAYLIGHT
DTSTART:20180325T030000
TZNAME:CEST
TZOFFSETFROM:+0100
TZOFFSETTO:+0200
END:DAYLIGHT
END:VTIMEZONE
END:VCALENDAR
