BEGIN:VCALENDAR
VERSION:2.0
PRODID:-//Plone.org//NONSGML plone.app.event//EN
X-WR-TIMEZONE:Europe/Berlin
BEGIN:VEVENT
SUMMARY:Souverän vortragen – Verbale und nonverbale Präsentationsstrat
 egien
DTSTART;TZID=Europe/Berlin:20181008T090000
DTEND;TZID=Europe/Berlin:20181008T170000
DTSTAMP:20260420T182037Z
UID:bd185e8826a649ed95679207297791f9@www.uni-marburg.de
ATTENDEE;CN="Oliver Leibrecht, www.euton.de";ROLE=REQ-PARTICIPANT:Oliver L
 eibrecht, www.euton.de
CREATED:20180518T094306Z
DESCRIPTION:https://www.uni-marburg.de/en/mara/pr-mara/events/2018/program
 -humanities-and-social-sciences/souveraen-vortragen\n
LAST-MODIFIED:20180523T094242Z
LOCATION:Philipps-Universität Marburg\, MARA\, F|05\, Deutschhausstraße 
 11+13\, Seminarraum 01.0020
URL:https://www.uni-marburg.de/en/mara/pr-mara/events/2018/program-humanit
 ies-and-social-sciences/souveraen-vortragen
END:VEVENT
BEGIN:VTIMEZONE
TZID:Europe/Berlin
X-LIC-LOCATION:Europe/Berlin
BEGIN:DAYLIGHT
DTSTART:20180325T030000
TZNAME:CEST
TZOFFSETFROM:+0100
TZOFFSETTO:+0200
END:DAYLIGHT
END:VTIMEZONE
END:VCALENDAR
