BEGIN:VCALENDAR
VERSION:2.0
PRODID:-//Plone.org//NONSGML plone.app.event//EN
X-WR-TIMEZONE:Europe/Berlin
BEGIN:VEVENT
SUMMARY:EMF – Achtsam führen
DTSTART;TZID=Europe/Berlin:20180627T090000
DTEND;TZID=Europe/Berlin:20180627T170000
DTSTAMP:20260424T232638Z
UID:1e7684fdd2e94721bf8f8c0b21ccf078@www.uni-marburg.de
ATTENDEE;CN="Barbara Schade, www.barbara-schade.de";ROLE=REQ-PARTICIPANT:B
 arbara Schade, www.barbara-schade.de
CREATED:20200122T142111Z
DESCRIPTION:https://www.uni-marburg.de/en/mara/pr-mara/events/2018/program
 -postdoc/emf-achtsam-fuehren\n
LAST-MODIFIED:20200122T142745Z
LOCATION:Philipps-Universität Marburg\, MARA\, F|05\, Deutschhausstr. 11+
 13\, 1. OG\, Seminarraum 01.0010
URL:https://www.uni-marburg.de/en/mara/pr-mara/events/2018/program-postdoc
 /emf-achtsam-fuehren
END:VEVENT
BEGIN:VTIMEZONE
TZID:Europe/Berlin
X-LIC-LOCATION:Europe/Berlin
BEGIN:DAYLIGHT
DTSTART:20180325T030000
TZNAME:CEST
TZOFFSETFROM:+0100
TZOFFSETTO:+0200
END:DAYLIGHT
END:VTIMEZONE
END:VCALENDAR
