BEGIN:VCALENDAR
VERSION:2.0
PRODID:-//Plone.org//NONSGML plone.app.event//EN
X-WR-TIMEZONE:Europe/Berlin
BEGIN:VEVENT
SUMMARY:EMF – Drittmittelanträge schreiben
DTSTART;TZID=Europe/Berlin:20181026T090000
DTEND;TZID=Europe/Berlin:20181027T170000
DTSTAMP:20260420T154942Z
UID:e8937d48fc514421863c85b3ce73e0e3@www.uni-marburg.de
ATTENDEE;CN="Dr. Judith Theben";ROLE=REQ-PARTICIPANT:Dr. Judith Theben
CREATED:20180530T102217Z
DESCRIPTION:https://www.uni-marburg.de/en/mara/pr-mara/events/2018/program
 -postdoc/emf-drittmittelantraege-schreiben\nIn dieser Veranstaltung erhalt
 en Sie nicht nur Einblicke in Antragslogiken und -systematiken\, so dass S
 ie verstehen\, was einen gelungenen Antrag aus der Perspektive der Begutac
 htenden ausmacht\, sondern Sie haben überdies Gelegenheit\, die Entwicklu
 ng Ihrer eigenen Projektidee zu einem Antrag in einer unterstützenden und
  motivierenden Atmosphäre voranzutreiben.
LAST-MODIFIED:20180927T091750Z
LOCATION:Philipps-Universität Marburg\, MARA\, F|05\, Deutschhausstr. 11+
 13\, 1. OG\, Seminarraum 01.0020
URL:https://www.uni-marburg.de/en/mara/pr-mara/events/2018/program-postdoc
 /emf-drittmittelantraege-schreiben
END:VEVENT
BEGIN:VTIMEZONE
TZID:Europe/Berlin
X-LIC-LOCATION:Europe/Berlin
BEGIN:DAYLIGHT
DTSTART:20180325T030000
TZNAME:CEST
TZOFFSETFROM:+0100
TZOFFSETTO:+0200
END:DAYLIGHT
END:VTIMEZONE
END:VCALENDAR
