BEGIN:VCALENDAR
VERSION:2.0
PRODID:-//Plone.org//NONSGML plone.app.event//EN
X-WR-TIMEZONE:Europe/Berlin
BEGIN:VEVENT
SUMMARY:EMF – Gesprächs- und Verhandlungsführung
DTSTART;TZID=Europe/Berlin:20180309T100000
DTEND;TZID=Europe/Berlin:20180310T173000
DTSTAMP:20260424T044027Z
UID:7cda5452e433493fa51566e3a6351746@www.uni-marburg.de
ATTENDEE;CN=" Dr. Katja Franz, www.katjafranz.de";ROLE=REQ-PARTICIPANT: Dr
 . Katja Franz, www.katjafranz.de
CREATED:20200106T203634Z
DESCRIPTION:https://www.uni-marburg.de/en/mara/pr-mara/events/2018/program
 -postdoc/emf-gespraechs-und-verhandlungsfuehrung\n
LAST-MODIFIED:20200106T204629Z
LOCATION:Philipps-Universität Marburg\, MARA\, F|05\, Deutschhausstr. 11+
 13\, 1. OG\, Seminarraum 01.0010
URL:https://www.uni-marburg.de/en/mara/pr-mara/events/2018/program-postdoc
 /emf-gespraechs-und-verhandlungsfuehrung
END:VEVENT
BEGIN:VTIMEZONE
TZID:Europe/Berlin
X-LIC-LOCATION:Europe/Berlin
BEGIN:STANDARD
DTSTART:20171029T020000
TZNAME:CET
TZOFFSETFROM:+0200
TZOFFSETTO:+0100
END:STANDARD
END:VTIMEZONE
END:VCALENDAR
