BEGIN:VCALENDAR
VERSION:2.0
PRODID:-//Plone.org//NONSGML plone.app.event//EN
X-WR-TIMEZONE:Europe/Berlin
BEGIN:VEVENT
SUMMARY:EMF - Bewertung\, Schutz und Vermarktung von Hochschul-Know-how
DTSTART;TZID=Europe/Berlin:20180515T090000
DTEND;TZID=Europe/Berlin:20180515T130000
DTSTAMP:20260424T074244Z
UID:d72ee468566d43e3b4146f9d50aec457@www.uni-marburg.de
ATTENDEE;CN="Dr. Thomas Widmann, www.transmit.de";ROLE=REQ-PARTICIPANT:Dr.
  Thomas Widmann, www.transmit.de
CREATED:20171211T075108Z
DESCRIPTION:https://www.uni-marburg.de/en/mara/pr-mara/events/2018/program
 -postdoc/emf-hochschul-know-how\nIn diesem Workshop erhalten Sie nicht nur
  wichtige Informationen zu verschiedenen Aspekten unterschiedlicher Arten 
 von Schutzrechten\, sondern auch über deren Einfluss auf Ihre eigene Fors
 chung und Arbeit sowie über Möglichkeiten zur Vermeidung von Schutzrecht
 everletzungen.
LAST-MODIFIED:20180507T110407Z
LOCATION:Philipps-Universität Marburg\, MARA\, F|05\, Deutschhausstr. 11+
 13\, 1. OG\, Seminarraum 01.0030
URL:https://www.uni-marburg.de/en/mara/pr-mara/events/2018/program-postdoc
 /emf-hochschul-know-how
END:VEVENT
BEGIN:VTIMEZONE
TZID:Europe/Berlin
X-LIC-LOCATION:Europe/Berlin
BEGIN:DAYLIGHT
DTSTART:20180325T030000
TZNAME:CEST
TZOFFSETFROM:+0100
TZOFFSETTO:+0200
END:DAYLIGHT
END:VTIMEZONE
END:VCALENDAR
