BEGIN:VCALENDAR
VERSION:2.0
PRODID:-//Plone.org//NONSGML plone.app.event//EN
X-WR-TIMEZONE:Europe/Berlin
BEGIN:VEVENT
SUMMARY:EMF - Writing Grant Proposals in Science
DTSTART;TZID=Europe/Berlin:20181201T090000
DTEND;TZID=Europe/Berlin:20181201T170000
DTSTAMP:20260422T043248Z
UID:6f38023820d44530a9c0ff857989d8cd@www.uni-marburg.de
ATTENDEE;CN="Prof. Dr. Annette Kolb, www.coachademics.de";ROLE=REQ-PARTICI
 PANT:Prof. Dr. Annette Kolb, www.coachademics.de
CREATED:20180606T074454Z
DESCRIPTION:https://www.uni-marburg.de/en/mara/pr-mara/events/2018/program
 -postdoc/emf-writing-grant-proposals-in-science\nThis one-day-workshop com
 municates proven grant application knowledge. It shows how strategic initi
 al considerations naturally lead to a sound proposal.
LAST-MODIFIED:20191023T070113Z
LOCATION:Philipps-Universität Marburg\, MARA\, F|05\, Deutschhausstr. 11+
 13\, 1. OG\, Seminar room 01.0010
URL:https://www.uni-marburg.de/en/mara/pr-mara/events/2018/program-postdoc
 /emf-writing-grant-proposals-in-science
END:VEVENT
BEGIN:VTIMEZONE
TZID:Europe/Berlin
X-LIC-LOCATION:Europe/Berlin
BEGIN:STANDARD
DTSTART:20181028T020000
TZNAME:CET
TZOFFSETFROM:+0200
TZOFFSETTO:+0100
END:STANDARD
END:VTIMEZONE
END:VCALENDAR
