BEGIN:VCALENDAR
VERSION:2.0
PRODID:-//Plone.org//NONSGML plone.app.event//EN
X-WR-TIMEZONE:Europe/Berlin
BEGIN:VEVENT
SUMMARY:Getting Started - For International Doctoral Candidates
DTSTART;TZID=Europe/Berlin:20181008T093000
DTEND;TZID=Europe/Berlin:20181010T163000
DTSTAMP:20260424T074403Z
UID:b20151951730411680d70a9cf5127fd0@www.uni-marburg.de
ATTENDEE;CN="Dr. Fabienne Quennet, Dr. Iris Wangermann, and others";ROLE=R
 EQ-PARTICIPANT:Dr. Fabienne Quennet, Dr. Iris Wangermann, and others
CREATED:20180606T081020Z
DESCRIPTION:https://www.uni-marburg.de/en/mara/pr-mara/events/2018/program
 -postdoc/getting-started-for-international-doctoral-candidates\nInternatio
 nal doctoral candidates are cordially invited to an introductory event org
 anized by the International Office of Philipps-Universität Marburg and MA
 RA.
LAST-MODIFIED:20181002T094203Z
LOCATION:Philipps-Universität Marburg\, MARA\, F|05\, Deutschhausstr. 11+
 13\, 1. OG\, Seminar room 01.0010
URL:https://www.uni-marburg.de/en/mara/pr-mara/events/2018/program-postdoc
 /getting-started-for-international-doctoral-candidates
END:VEVENT
BEGIN:VTIMEZONE
TZID:Europe/Berlin
X-LIC-LOCATION:Europe/Berlin
BEGIN:DAYLIGHT
DTSTART:20180325T030000
TZNAME:CEST
TZOFFSETFROM:+0100
TZOFFSETTO:+0200
END:DAYLIGHT
END:VTIMEZONE
END:VCALENDAR
