BEGIN:VCALENDAR
VERSION:2.0
PRODID:-//Plone.org//NONSGML plone.app.event//EN
X-WR-TIMEZONE:Europe/Berlin
BEGIN:VEVENT
SUMMARY:Karriereentwicklung für Postdocs – Personalauswahl und -führun
 g in der Wissenschaft
DTSTART;TZID=Europe/Berlin:20180306T100000
DTEND;TZID=Europe/Berlin:20180307T170000
DTSTAMP:20260425T002725Z
UID:93433623edae48a182e0e72b2fdaa32e@www.uni-marburg.de
ATTENDEE;CN="Dr. Matthias Schwarzkopf, www.coaching-schwarzkopf.de";ROLE=R
 EQ-PARTICIPANT:Dr. Matthias Schwarzkopf, www.coaching-schwarzkopf.de
CREATED:20191218T153139Z
DESCRIPTION:https://www.uni-marburg.de/en/mara/pr-mara/events/2018/program
 -postdoc/karriereentwicklung-fuer-postdocs-personalauswahl-und-fuehrung-in
 -der-wissenschaft\n
LAST-MODIFIED:20191218T154724Z
LOCATION:Philipps-Universität Marburg\, MARA\, F|05\, Deutschhausstr. 11+
 13\, 1. OG\, Seminarraum 01.0010
URL:https://www.uni-marburg.de/en/mara/pr-mara/events/2018/program-postdoc
 /karriereentwicklung-fuer-postdocs-personalauswahl-und-fuehrung-in-der-wis
 senschaft
END:VEVENT
BEGIN:VTIMEZONE
TZID:Europe/Berlin
X-LIC-LOCATION:Europe/Berlin
BEGIN:STANDARD
DTSTART:20171029T020000
TZNAME:CET
TZOFFSETFROM:+0200
TZOFFSETTO:+0100
END:STANDARD
END:VTIMEZONE
END:VCALENDAR
